BEGIN:VCALENDAR
VERSION:2.0
PRODID:-//Tukios.com/
BEGIN:VEVENT
UID:ee44be05-14d1-4281-9934-b4ecc6f3dea2@www.perezfamilyfuneralhome.com
DTSTAMP:20260422T032715Z
DTSTART:20260501T230000Z
DTEND:20260502T030000Z
SUMMARY:Funeral Service / Servicio Funeral
DESCRIPTION:
URL:https://www.perezfamilyfuneralhome.com/obituaries/casiano-ramirez
LOCATION: 1347 Del Norte Road  Camarillo CA 93010
GEO:34.2225307;-119.1065644
END:VEVENT
END:VCALENDAR