BEGIN:VCALENDAR
VERSION:2.0
PRODID:-//Tukios.com/
BEGIN:VEVENT
UID:28e5cfb9-a52f-43da-bbec-5d3b0c08534b@www.perezfamilyfuneralhome.com
DTSTAMP:20260422T032915Z
DTSTART:20260502T010000Z
DTEND:20260502T020000Z
SUMMARY:Rosary / Rosario
DESCRIPTION:
URL:https://www.perezfamilyfuneralhome.com/obituaries/casiano-ramirez
LOCATION: 1347 Del Norte Road  Camarillo CA 93010
GEO:34.2225307;-119.1065644
END:VEVENT
END:VCALENDAR