BEGIN:VCALENDAR
VERSION:2.0
PRODID:-//Tukios.com/
BEGIN:VEVENT
UID:8d0e5879-9319-4187-a77b-5ea0ac7920e3@www.perezfamilyfuneralhome.com
DTSTAMP:20260420T045121Z
DTSTART:20260420T000000Z
DTEND:20260420T040000Z
SUMMARY:Visitation
DESCRIPTION:The Rosary will begin at 6:30pm
URL:https://www.perezfamilyfuneralhome.com/obituaries/felipe-escobar
LOCATION:Perez Family Funeral Home 1347 Del Norte Road  Camarillo CA 
	93010
GEO:34.2225307;-119.1065644
END:VEVENT
END:VCALENDAR