BEGIN:VCALENDAR
VERSION:2.0
PRODID:-//Tukios.com/
BEGIN:VEVENT
UID:43a7dea9-5670-45d2-92c3-aef84fa21be0@www.perezfamilyfuneralhome.com
DTSTAMP:20260424T233040Z
DTSTART:20260429T160000Z
DTEND:20260429T180000Z
SUMMARY:Visitation / Visitación
DESCRIPTION:
URL:https://www.perezfamilyfuneralhome.com/obituaries/freddy-rodriguez
LOCATION: 600 Central Avenue  Fillmore CA 93015
GEO:34.4047023;-118.9142417
END:VEVENT
END:VCALENDAR