BEGIN:VCALENDAR
VERSION:2.0
PRODID:-//Tukios.com/
BEGIN:VEVENT
UID:4668df6f-d4ba-409e-9154-1e32bb8bd9a8@www.perezfamilyfuneralhome.com
DTSTAMP:20260424T233345Z
DTSTART:20260429T183000Z
DTEND:20260429T193000Z
SUMMARY:Burial / Entierro
DESCRIPTION:
URL:https://www.perezfamilyfuneralhome.com/obituaries/freddy-rodriguez
LOCATION: 600 Central Avenue  Fillmore CA 93015
GEO:34.4047023;-118.9142417
END:VEVENT
END:VCALENDAR