BEGIN:VCALENDAR
VERSION:2.0
PRODID:-//Tukios.com/
BEGIN:VEVENT
UID:1e2f793e-402b-423b-9bde-90df7a69c4f2@www.perezfamilyfuneralhome.com
DTSTAMP:20260421T090830Z
DTSTART:20260218T000000Z
DTEND:20260218T040000Z
SUMMARY:Visitation / Visitación
DESCRIPTION:
URL:https://www.perezfamilyfuneralhome.com/obituaries/sandra-barragan
LOCATION: 600 Central Avenue  Fillmore CA 93015
GEO:34.4047023;-118.9142417
END:VEVENT
END:VCALENDAR