BEGIN:VCALENDAR
VERSION:2.0
PRODID:-//Tukios.com/
BEGIN:VEVENT
UID:0de8fe6d-a630-45d1-a80d-0f47251fbfe8@www.perezfamilyfuneralhome.com
DTSTAMP:20260421T084738Z
DTSTART:20260218T020000Z
DTEND:20260218T030000Z
SUMMARY:Rosary / Rosario
DESCRIPTION:
URL:https://www.perezfamilyfuneralhome.com/obituaries/sandra-barragan
LOCATION: 600 Central Avenue  Fillmore CA 93015
GEO:34.4047023;-118.9142417
END:VEVENT
END:VCALENDAR