BEGIN:VCALENDAR
VERSION:2.0
PRODID:-//Tukios.com/
BEGIN:VEVENT
UID:4572e045-d9f7-4eff-aafc-1e415dab3c14@www.perezfamilyfuneralhome.com
DTSTAMP:20260421T090845Z
DTSTART:20260218T170000Z
DTEND:20260218T173000Z
SUMMARY:Mass / Misa
DESCRIPTION:
URL:https://www.perezfamilyfuneralhome.com/obituaries/sandra-barragan
LOCATION: 4041 Center St  Piru CA 93040
GEO:34.4156266;-118.7911788
END:VEVENT
END:VCALENDAR