BEGIN:VCALENDAR
VERSION:2.0
PRODID:-//Tukios.com/
BEGIN:VEVENT
UID:80f02f95-6c3d-496a-921b-5f607f9fb27c@www.perezfamilyfuneralhome.com
DTSTAMP:20260421T084828Z
DTSTART:20260218T181500Z
DTEND:20260218T191500Z
SUMMARY:Burial / Entierro
DESCRIPTION:
URL:https://www.perezfamilyfuneralhome.com/obituaries/sandra-barragan
LOCATION: 1698 S Sespe St  Fillmore CA 93015
GEO:34.3612694;-118.9402866
END:VEVENT
END:VCALENDAR